BEGIN:VCALENDAR
VERSION:2.0
PRODID:-//Mullingar Equestrian - ECPv6.15.20//NONSGML v1.0//EN
CALSCALE:GREGORIAN
METHOD:PUBLISH
X-WR-CALNAME:Mullingar Equestrian
X-ORIGINAL-URL:https://mullingarequestrian.com
X-WR-CALDESC:Events for Mullingar Equestrian
REFRESH-INTERVAL;VALUE=DURATION:PT1H
X-Robots-Tag:noindex
X-PUBLISHED-TTL:PT1H
BEGIN:VTIMEZONE
TZID:Europe/Dublin
BEGIN:STANDARD
TZOFFSETFROM:+0000
TZOFFSETTO:+0100
TZNAME:IST
DTSTART:20240331T010000
END:STANDARD
BEGIN:DAYLIGHT
TZOFFSETFROM:+0100
TZOFFSETTO:+0000
TZNAME:GMT
DTSTART:20241027T010000
END:DAYLIGHT
BEGIN:STANDARD
TZOFFSETFROM:+0000
TZOFFSETTO:+0100
TZNAME:IST
DTSTART:20250330T010000
END:STANDARD
BEGIN:DAYLIGHT
TZOFFSETFROM:+0100
TZOFFSETTO:+0000
TZNAME:GMT
DTSTART:20251026T010000
END:DAYLIGHT
BEGIN:STANDARD
TZOFFSETFROM:+0000
TZOFFSETTO:+0100
TZNAME:IST
DTSTART:20260329T010000
END:STANDARD
BEGIN:DAYLIGHT
TZOFFSETFROM:+0100
TZOFFSETTO:+0000
TZNAME:GMT
DTSTART:20261025T010000
END:DAYLIGHT
END:VTIMEZONE
BEGIN:VEVENT
DTSTART;TZID=Europe/Dublin:20250423T090000
DTEND;TZID=Europe/Dublin:20250423T170000
DTSTAMP:20260423T092823
CREATED:20241230T230232Z
LAST-MODIFIED:20250315T133305Z
UID:10000687-1745398800-1745427600@mullingarequestrian.com
SUMMARY:SJI Wednesday Horse & Pony League
DESCRIPTION:
URL:https://mullingarequestrian.com/events/sji-wednesday-horse-pony-league-5/2025-04-23/
ATTACH;FMTTYPE=image/png:https://mullingarequestrian.com/wp-content/uploads/2024/12/Wed-League-2025-1.png
END:VEVENT
BEGIN:VEVENT
DTSTART;TZID=Europe/Dublin:20250426T093000
DTEND;TZID=Europe/Dublin:20250426T170000
DTSTAMP:20260423T092823
CREATED:20250123T121244Z
LAST-MODIFIED:20250415T125541Z
UID:10000664-1745659800-1745686800@mullingarequestrian.com
SUMMARY:SJI Pony Spring Tour  & Pony Spring League
DESCRIPTION:Equijump Pony and Children on Horses Spring Tour Final \n\n\n\nEntries Close on SJILive.ie 4pm Friday 25th April \n\n\n\nPony Master Qualifier and Spring League Sunday 27th April \n\n\n\n \n\n\n\n\n\n\n\n\nBOOK STABLES / PARKING (26/27 April)
URL:https://mullingarequestrian.com/events/sji-horse-pony-spring-league-3/
ATTACH;FMTTYPE=image/png:https://mullingarequestrian.com/wp-content/uploads/2025/01/Pony-Spring-tour.png
END:VEVENT
BEGIN:VEVENT
DTSTART;TZID=Europe/Dublin:20250427T083000
DTEND;TZID=Europe/Dublin:20250427T170000
DTSTAMP:20260423T092823
CREATED:20250123T121334Z
LAST-MODIFIED:20250423T100342Z
UID:10000761-1745742600-1745773200@mullingarequestrian.com
SUMMARY:Horse Spring Tour & Pony Masters Qualifiers
DESCRIPTION:All bookings through www.sjilive.ie by 4pm Saturday  \n\n\n\n\n\n\n\n\nBOOK STABLES / PARKING
URL:https://mullingarequestrian.com/events/horse-spring-tour-pony-masters-qualifiers/
END:VEVENT
BEGIN:VEVENT
DTSTART;TZID=Europe/Dublin:20250430T090000
DTEND;TZID=Europe/Dublin:20250430T170000
DTSTAMP:20260423T092823
CREATED:20241230T230232Z
LAST-MODIFIED:20250315T133305Z
UID:10000688-1746003600-1746032400@mullingarequestrian.com
SUMMARY:SJI Wednesday Horse & Pony League
DESCRIPTION:
URL:https://mullingarequestrian.com/events/sji-wednesday-horse-pony-league-5/2025-04-30/
ATTACH;FMTTYPE=image/png:https://mullingarequestrian.com/wp-content/uploads/2024/12/Wed-League-2025-1.png
END:VEVENT
BEGIN:VEVENT
DTSTART;TZID=Europe/Dublin:20250503T093000
DTEND;TZID=Europe/Dublin:20250503T170000
DTSTAMP:20260423T092823
CREATED:20241118T163734Z
LAST-MODIFIED:20250218T110921Z
UID:10000665-1746264600-1746291600@mullingarequestrian.com
SUMMARY:SJI Horse & Pony Spring League
DESCRIPTION:SJI shows resume on March 1st with the first leg of our Spring League for both horses & ponies. \n\n\n\nBook on www.sjilive.ie by 4pm each Friday \n\n\n\nWe will also run un-reg classes each week before the ponies from 9.30 to 12.30 approx  \n\n\n\nBook un-reg jumping on www.mullingarequestrian.com by 4pm Friday also
URL:https://mullingarequestrian.com/events/sji-horse-pony-spring-league/2025-05-03/
ATTACH;FMTTYPE=image/png:https://mullingarequestrian.com/wp-content/uploads/2025/01/SJI-Spring-2025.png
END:VEVENT
BEGIN:VEVENT
DTSTART;TZID=Europe/Dublin:20250507T090000
DTEND;TZID=Europe/Dublin:20250507T170000
DTSTAMP:20260423T092823
CREATED:20241230T230232Z
LAST-MODIFIED:20250315T133305Z
UID:10000689-1746608400-1746637200@mullingarequestrian.com
SUMMARY:SJI Wednesday Horse & Pony League
DESCRIPTION:
URL:https://mullingarequestrian.com/events/sji-wednesday-horse-pony-league-5/2025-05-07/
ATTACH;FMTTYPE=image/png:https://mullingarequestrian.com/wp-content/uploads/2024/12/Wed-League-2025-1.png
END:VEVENT
BEGIN:VEVENT
DTSTART;TZID=Europe/Dublin:20250508T090000
DTEND;TZID=Europe/Dublin:20250511T170000
DTSTAMP:20260423T092823
CREATED:20250507T111407Z
LAST-MODIFIED:20250507T145052Z
UID:10000792-1746694800-1746982800@mullingarequestrian.com
SUMMARY:Pony & COH Trials
DESCRIPTION:
URL:https://mullingarequestrian.com/events/pony-coh-trials-2/
END:VEVENT
BEGIN:VEVENT
DTSTART;TZID=Europe/Dublin:20250510T090000
DTEND;TZID=Europe/Dublin:20250510T170000
DTSTAMP:20260423T092823
CREATED:20250502T143614Z
LAST-MODIFIED:20250507T145230Z
UID:10000789-1746867600-1746896400@mullingarequestrian.com
SUMMARY:Un-reg Sportsman Showjumping FINAL
DESCRIPTION:Un Reg sportsman jumping takes place each Saturday in Arena 1 from 9 to 12.30 before our SJI ponies. Book before 4pm Friday.
URL:https://mullingarequestrian.com/events/un-reg-sportsman-showjumping-2/
END:VEVENT
BEGIN:VEVENT
DTSTART;TZID=Europe/Dublin:20250510T093000
DTEND;TZID=Europe/Dublin:20250510T170000
DTSTAMP:20260423T092823
CREATED:20250505T215004Z
LAST-MODIFIED:20250505T215251Z
UID:10000666-1746869400-1746896400@mullingarequestrian.com
SUMMARY:SJI  Spring League FINAL
DESCRIPTION:Thanks to everyone for all your support for our Spring League 2025 \, hope you all can join us for our final on May 10th .  \n\n\n\nWe look forward to welcoming everyone back again for our CSI2* tour from May 21st to June 2nd  \n\n\n\nOur Summer SJI League will start on Saturday June 14th  \n\n\n\nBook on www.sjilive.ie by 4pm each Friday \n\n\n\nOur unreg sportsman Spring Finale will also take place  from 9.30 to 12.30 approx in Sand 2  \n\n\n\nBook un-reg jumping on www.mullingarequestrian.com by 4pm Friday also
URL:https://mullingarequestrian.com/events/sji-horse-pony-spring-league-5/
ATTACH;FMTTYPE=image/png:https://mullingarequestrian.com/wp-content/uploads/2025/01/SJI-Spring-2025.png
END:VEVENT
BEGIN:VEVENT
DTSTART;TZID=Europe/Dublin:20250514T090000
DTEND;TZID=Europe/Dublin:20250514T170000
DTSTAMP:20260423T092823
CREATED:20241230T230232Z
LAST-MODIFIED:20250315T133305Z
UID:10000690-1747213200-1747242000@mullingarequestrian.com
SUMMARY:SJI Wednesday Horse & Pony League
DESCRIPTION:
URL:https://mullingarequestrian.com/events/sji-wednesday-horse-pony-league-5/2025-05-14/
ATTACH;FMTTYPE=image/png:https://mullingarequestrian.com/wp-content/uploads/2024/12/Wed-League-2025-1.png
END:VEVENT
BEGIN:VEVENT
DTSTART;TZID=Europe/Dublin:20250523T080000
DTEND;TZID=Europe/Dublin:20250525T200000
DTSTAMP:20260423T092823
CREATED:20241230T230950Z
LAST-MODIFIED:20250507T135645Z
UID:10000785-1747987200-1748203200@mullingarequestrian.com
SUMMARY:Mullingar CSI2* International Tour\, WEEK 1\, 23-25 May
DESCRIPTION:
URL:https://mullingarequestrian.com/events/csi2-week-1/
ATTACH;FMTTYPE=image/jpeg:https://mullingarequestrian.com/wp-content/uploads/2025/04/Int-show-2025-.jpg
END:VEVENT
BEGIN:VEVENT
DTSTART;TZID=Europe/Dublin:20250529T080000
DTEND;TZID=Europe/Dublin:20250602T200000
DTSTAMP:20260423T092823
CREATED:20250429T145707Z
LAST-MODIFIED:20250507T135614Z
UID:10000788-1748505600-1748894400@mullingarequestrian.com
SUMMARY:Mullingar CSI2* International Tour\, WEEK 2\, 29 May - 2 Jun
DESCRIPTION:
URL:https://mullingarequestrian.com/events/mullingar-csi2-international-tour-week-1-23-25-may/
ATTACH;FMTTYPE=image/jpeg:https://mullingarequestrian.com/wp-content/uploads/2025/04/Int-show-2025-.jpg
END:VEVENT
BEGIN:VEVENT
DTSTART;TZID=Europe/Dublin:20250602T130000
DTEND;TZID=Europe/Dublin:20250602T170000
DTSTAMP:20260423T092823
CREATED:20250521T174414Z
LAST-MODIFIED:20250521T174415Z
UID:10000795-1748869200-1748883600@mullingarequestrian.com
SUMMARY:Sportsman Jumping at Mullingar CSI2*
DESCRIPTION:Compete alongside top international athletes at this years CSI2* Tour. Un Reg sportsman jumping takes place on Monday 2nd of June in STX Sand 2 after our SJI horses\, with classes ranging from x-poles to 1m. Book before 4pm Sunday June 1st at https://entry.equipe.com/meetings/6052
URL:https://mullingarequestrian.com/events/sportsman-jumping-at-mullingar-csi2/
END:VEVENT
BEGIN:VEVENT
DTSTART;TZID=Europe/Dublin:20250607T080000
DTEND;TZID=Europe/Dublin:20250608T170000
DTSTAMP:20260423T092823
CREATED:20241230T233143Z
LAST-MODIFIED:20250606T095114Z
UID:10000727-1749283200-1749402000@mullingarequestrian.com
SUMMARY:AIRC Festival
DESCRIPTION:Check out www.airc.ie for schedules\, entries & events plans \n\n\n\n\nSTABLE LIST\n\n\n\n\n\n\n\n\nStables open from 2.00 pm Friday \n\n\n\n\n\n\n\n\n\n\n\n\n\n\nBook Stables & Parking
URL:https://mullingarequestrian.com/events/airc-festival-2/
END:VEVENT
BEGIN:VEVENT
DTSTART;TZID=Europe/Dublin:20250614T080000
DTEND;TZID=Europe/Dublin:20250614T170000
DTSTAMP:20260423T092823
CREATED:20250609T145509Z
LAST-MODIFIED:20250711T092047Z
UID:10000808-1749888000-1749920400@mullingarequestrian.com
SUMMARY:Summer Sportsman
DESCRIPTION:Un Reg sportsman jumping takes place each Saturday in Sand Arena 1 from 9 to 12.30 before our SJI ponies.  \n\n\n\nStarting with Lead rein up to 1.10m. \n\n\n\nBook before 4pm Friday on mullingarequestrian.com \n\n\n\n\nEnter Here
URL:https://mullingarequestrian.com/events/summer-sportsman/
ATTACH;FMTTYPE=image/png:https://mullingarequestrian.com/wp-content/uploads/2025/06/Sportsman-August-A4-LinkedIn-Post.png
END:VEVENT
BEGIN:VEVENT
DTSTART;TZID=Europe/Dublin:20250614T080000
DTEND;TZID=Europe/Dublin:20250614T170000
DTSTAMP:20260423T092823
CREATED:20250711T092143Z
LAST-MODIFIED:20250711T092144Z
UID:10000812-1749888000-1749920400@mullingarequestrian.com
SUMMARY:Summer Sportsman
DESCRIPTION:Un Reg sportsman jumping takes place each Saturday in Sand Arena 1 from 9 to 12.30 before our SJI ponies.  \n\n\n\nStarting with Lead rein up to 1.10m. \n\n\n\nBook before 4pm Friday on mullingarequestrian.com \n\n\n\n\nEnter Here
URL:https://mullingarequestrian.com/events/summer-sportsman-5/2025-06-14/
ATTACH;FMTTYPE=image/png:https://mullingarequestrian.com/wp-content/uploads/2025/06/Sportsman-August-A4-LinkedIn-Post.png
END:VEVENT
BEGIN:VEVENT
DTSTART;TZID=Europe/Dublin:20250614T090000
DTEND;TZID=Europe/Dublin:20250614T170000
DTSTAMP:20260423T092823
CREATED:20241230T233620Z
LAST-MODIFIED:20250609T134136Z
UID:10000728-1749891600-1749920400@mullingarequestrian.com
SUMMARY:Summer League Week 1
DESCRIPTION:SJI Summer shows resume on June 14th with the first leg of our Spring League for both horses & ponies. \n\n\n\nBook on www.sjilive.ie by 4pm each Friday \n\n\n\nWe will also run un-reg classes each week before the ponies from 9.30 to 12.30 approx \n\n\n\nBook un-reg jumping on www.mullingarequestrian.com by 4pm Friday also.
URL:https://mullingarequestrian.com/events/mullingar-showing-show-2/2025-06-14/
ATTACH;FMTTYPE=image/png:https://mullingarequestrian.com/wp-content/uploads/2024/12/SJI-Summer-League-2.png
END:VEVENT
BEGIN:VEVENT
DTSTART;TZID=Europe/Dublin:20250616T090000
DTEND;TZID=Europe/Dublin:20250616T170000
DTSTAMP:20260423T092823
CREATED:20250402T114019Z
LAST-MODIFIED:20250609T142919Z
UID:10000776-1750064400-1750093200@mullingarequestrian.com
SUMMARY:SJI Pony Academy
DESCRIPTION:The highest placed rider in each height category (2 x148) at Equijump Pony & COH/Junior regions leg will secure a place at the prestigious 1-day Pony Academy\,  \n\n\n\nThe categories that riders will be chosen from are the 128 Under 10\, 128 2 Star\, 138 2 Star\, 148 2 Star & COH/ Junior classes. \n\n\n\n\n6 Connaught riders will be chosen from Ard Chuian 16th March\n\n\n\n6 Munster riders will be chosen from Maryville 23rd March  \n\n\n\n6 Ulster riders will be chosen from Castle Irvine 13th April\n\n\n\n6 Leinster riders will be chosen from Mullingar 27th April\n\n\n\n\nThe academy timetable will include flatwork & showjumping tuition\, course walk & competition preparation from a team of high-performance coaches & course designers supported by the SJI Pony Committee.
URL:https://mullingarequestrian.com/events/sji-pony-academy/
ATTACH;FMTTYPE=image/png:https://mullingarequestrian.com/wp-content/uploads/2025/04/Ulster-Region-Riders-to-qualify-for-the-pony-academy-at-1.png
END:VEVENT
BEGIN:VEVENT
DTSTART;TZID=Europe/Dublin:20250619T110000
DTEND;TZID=Europe/Dublin:20250619T170000
DTSTAMP:20260423T092823
CREATED:20250222T133045Z
LAST-MODIFIED:20250609T141611Z
UID:10000774-1750330800-1750352400@mullingarequestrian.com
SUMMARY:RDS 3YO POTENTIAL EVENT HORSE loose jumping qualifier
DESCRIPTION:AIM: To identify the highly desirable\, good looking horse with potential for the discipline of eventing and to assist breeders and producers to present their Three Year Old stock to the best advantage for modern eventing competitions. \n\n\n\nAll entries for the qualifiers will be processed via the RDS online entry system.  Entries will open on Monday\, the 9th of June and will close at 3pm on the day preceding the qualifier.  Entries are no longer accepted by email or phone. \n\n\n\nEntry fees will be paid directly to the venue on the day of the qualifier. \n\n\n\nExhibitors will be advised of their start time by email on the morning of the qualifier.  No late entries or entries on the day will be accepted.  Exhibitors that do not present their horse at their allocated start time will not be permitted to compete.
URL:https://mullingarequestrian.com/events/3yo-rds-event-horse-loose-jumping-qualifier/
ATTACH;FMTTYPE=image/png:https://mullingarequestrian.com/wp-content/uploads/2025/02/RDS-Working-Hunter.png
END:VEVENT
BEGIN:VEVENT
DTSTART;TZID=Europe/Dublin:20250621T080000
DTEND;TZID=Europe/Dublin:20250621T170000
DTSTAMP:20260423T092823
CREATED:20241230T234030Z
LAST-MODIFIED:20250710T193308Z
UID:10000730-1750492800-1750525200@mullingarequestrian.com
SUMMARY:SJI Summer Horse & Pony League
DESCRIPTION:SJI Summer shows resume on June 14th with the first leg of our Summer League for both horses & ponies. \n\n\n\nBook on www.sjilive.ie by 4pm each Friday \n\n\n\nWe will also run un-reg classes each week before the ponies from 9.30 to 12.30 approx \n\n\n\nBook un-reg jumping on www.mullingarequestrian.com by 4pm Friday also.
URL:https://mullingarequestrian.com/events/sji-summer-horse-pony-league/2025-06-21/
ATTACH;FMTTYPE=image/png:https://mullingarequestrian.com/wp-content/uploads/2024/12/SJI-Summer-League-2.png
END:VEVENT
BEGIN:VEVENT
DTSTART;TZID=Europe/Dublin:20250621T080000
DTEND;TZID=Europe/Dublin:20250621T170000
DTSTAMP:20260423T092823
CREATED:20250609T150401Z
LAST-MODIFIED:20250609T150402Z
UID:10000809-1750492800-1750525200@mullingarequestrian.com
SUMMARY:Summer Sportsman
DESCRIPTION:Un Reg sportsman jumping takes place each Saturday in Sand Arena 1 from 9 to 12.30 before our SJI ponies.  \n\n\n\nStarting with Lead rein up to 1.10m. \n\n\n\nBook before 4pm Friday on mullingarequestrian.com \n\n\n\n\nEnter Here
URL:https://mullingarequestrian.com/events/summer-sportsman-2/
ATTACH;FMTTYPE=image/png:https://mullingarequestrian.com/wp-content/uploads/2025/06/Sportsman-August-A4-LinkedIn-Post.png
END:VEVENT
BEGIN:VEVENT
DTSTART;TZID=Europe/Dublin:20250625T080000
DTEND;TZID=Europe/Dublin:20250625T170000
DTSTAMP:20260423T092823
CREATED:20241230T233712Z
LAST-MODIFIED:20250625T130857Z
UID:10000729-1750838400-1750870800@mullingarequestrian.com
SUMMARY:RDS Horse Qualifier
DESCRIPTION:Dublin Horse Show Qualifiers for 4\, 5\, 6 and 7/8 year olds \n\n\n\nEntries on SJILive.ie close at 12:00 on the 23rd June\, No Late Entries will be accepted after that time. \n\n\n\n\n\n\n\n\nBOOK STABLES\n\n\n\nSTABLE LIST\n\n\n\n\n\n\n\n\n\nVIEW LIVESTREAM
URL:https://mullingarequestrian.com/events/rds-horse-qualifier/
ATTACH;FMTTYPE=image/png:https://mullingarequestrian.com/wp-content/uploads/2024/12/rds-qual-LinkedIn-Post.png
END:VEVENT
BEGIN:VEVENT
DTSTART;TZID=Europe/Dublin:20250626T160000
DTEND;TZID=Europe/Dublin:20250626T210000
DTSTAMP:20260423T092823
CREATED:20250222T133358Z
LAST-MODIFIED:20250626T084008Z
UID:10000775-1750953600-1750971600@mullingarequestrian.com
SUMMARY:RDS 3YO LOOSE PERFORMANCE qualifier
DESCRIPTION:START LIST\n\n\n\n\n\n\n\n\nTo promote and provide an outlet for young horses likely to make high class show jumpers.  To identify performance fillies at a young age that may be suitable for the broodmare herd. \n\n\n\nAll entries for the qualifiers will be processed via the RDS online entry system.  Entries will open on Monday\, the 9th of June and will close at 3pm on the day preceding the qualifier.  Entries are no longer accepted by email or phone. \n\n\n\nExhibitors will be advised of their start time by return email on the morning of the qualifier.  No late entries or entries on the day will be accepted.  Exhibitors that do not present their horse at their allocated start time will not be permitted to compete.
URL:https://mullingarequestrian.com/events/3yo-loose-jumping-qualifier/
ATTACH;FMTTYPE=image/png:https://mullingarequestrian.com/wp-content/uploads/2025/02/RDS-Working-Hunter.png
END:VEVENT
BEGIN:VEVENT
DTSTART;TZID=Europe/Dublin:20250628T080000
DTEND;TZID=Europe/Dublin:20250628T170000
DTSTAMP:20260423T092823
CREATED:20241230T234030Z
LAST-MODIFIED:20250710T193308Z
UID:10000731-1751097600-1751130000@mullingarequestrian.com
SUMMARY:SJI Summer Horse & Pony League
DESCRIPTION:SJI Summer shows resume on June 14th with the first leg of our Summer League for both horses & ponies. \n\n\n\nBook on www.sjilive.ie by 4pm each Friday \n\n\n\nWe will also run un-reg classes each week before the ponies from 9.30 to 12.30 approx \n\n\n\nBook un-reg jumping on www.mullingarequestrian.com by 4pm Friday also.
URL:https://mullingarequestrian.com/events/sji-summer-horse-pony-league/2025-06-28/
ATTACH;FMTTYPE=image/png:https://mullingarequestrian.com/wp-content/uploads/2024/12/SJI-Summer-League-2.png
END:VEVENT
BEGIN:VEVENT
DTSTART;TZID=Europe/Dublin:20250628T080000
DTEND;TZID=Europe/Dublin:20250628T170000
DTSTAMP:20260423T092823
CREATED:20250609T150435Z
LAST-MODIFIED:20250609T150436Z
UID:10000810-1751097600-1751130000@mullingarequestrian.com
SUMMARY:Summer Sportsman
DESCRIPTION:Un Reg sportsman jumping takes place each Saturday in Sand Arena 1 from 9 to 12.30 before our SJI ponies.  \n\n\n\nStarting with Lead rein up to 1.10m. \n\n\n\nBook before 4pm Friday on mullingarequestrian.com \n\n\n\n\nEnter Here
URL:https://mullingarequestrian.com/events/summer-sportsman-3/
ATTACH;FMTTYPE=image/png:https://mullingarequestrian.com/wp-content/uploads/2025/06/Sportsman-August-A4-LinkedIn-Post.png
END:VEVENT
BEGIN:VEVENT
DTSTART;TZID=Europe/Dublin:20250630T080000
DTEND;TZID=Europe/Dublin:20250704T170000
DTSTAMP:20260423T092823
CREATED:20250609T143551Z
LAST-MODIFIED:20250625T131115Z
UID:10000807-1751270400-1751648400@mullingarequestrian.com
SUMMARY:WPC
DESCRIPTION:Westmeath Pony Club
URL:https://mullingarequestrian.com/events/wpc/
ATTACH;FMTTYPE=image/jpeg:https://mullingarequestrian.com/wp-content/uploads/2025/01/504077453_9643994179063647_3281359057297376519_n.jpg
END:VEVENT
BEGIN:VEVENT
DTSTART;TZID=Europe/Dublin:20250705T080000
DTEND;TZID=Europe/Dublin:20250705T170000
DTSTAMP:20260423T092823
CREATED:20241230T234030Z
LAST-MODIFIED:20250710T193308Z
UID:10000732-1751702400-1751734800@mullingarequestrian.com
SUMMARY:SJI Summer Horse & Pony League
DESCRIPTION:SJI Summer shows resume on June 14th with the first leg of our Summer League for both horses & ponies. \n\n\n\nBook on www.sjilive.ie by 4pm each Friday \n\n\n\nWe will also run un-reg classes each week before the ponies from 9.30 to 12.30 approx \n\n\n\nBook un-reg jumping on www.mullingarequestrian.com by 4pm Friday also.
URL:https://mullingarequestrian.com/events/sji-summer-horse-pony-league/2025-07-05/
ATTACH;FMTTYPE=image/png:https://mullingarequestrian.com/wp-content/uploads/2024/12/SJI-Summer-League-2.png
END:VEVENT
BEGIN:VEVENT
DTSTART;TZID=Europe/Dublin:20250705T080000
DTEND;TZID=Europe/Dublin:20250705T170000
DTSTAMP:20260423T092823
CREATED:20250609T150506Z
LAST-MODIFIED:20250701T091502Z
UID:10000811-1751702400-1751734800@mullingarequestrian.com
SUMMARY:Summer Sportsman
DESCRIPTION:Un Reg sportsman jumping takes place each Saturday in Sand Arena 1 from 9 to 12.30 before our SJI ponies.  \n\n\n\nStarting with Lead rein up to 1.10m. \n\n\n\nBook before 4pm Friday on mullingarequestrian.com \n\n\n\n\nEnter Here
URL:https://mullingarequestrian.com/events/summer-sportsman-4/
ATTACH;FMTTYPE=image/png:https://mullingarequestrian.com/wp-content/uploads/2025/06/Sportsman-August-A4-LinkedIn-Post.png
END:VEVENT
BEGIN:VEVENT
DTSTART;TZID=Europe/Dublin:20250707T090000
DTEND;TZID=Europe/Dublin:20250711T180000
DTSTAMP:20260423T092823
CREATED:20250123T122111Z
LAST-MODIFIED:20250609T143146Z
UID:10000767-1751878800-1752256800@mullingarequestrian.com
SUMMARY:LPC
DESCRIPTION:
URL:https://mullingarequestrian.com/events/lpc/
ATTACH;FMTTYPE=image/jpeg:https://mullingarequestrian.com/wp-content/uploads/2025/01/download.jpg
END:VEVENT
BEGIN:VEVENT
DTSTART;TZID=Europe/Dublin:20250712T080000
DTEND;TZID=Europe/Dublin:20250712T170000
DTSTAMP:20260423T092823
CREATED:20241230T234030Z
LAST-MODIFIED:20250710T193308Z
UID:10000733-1752307200-1752339600@mullingarequestrian.com
SUMMARY:SJI Summer Horse & Pony League
DESCRIPTION:SJI Summer shows resume on June 14th with the first leg of our Summer League for both horses & ponies. \n\n\n\nBook on www.sjilive.ie by 4pm each Friday \n\n\n\nWe will also run un-reg classes each week before the ponies from 9.30 to 12.30 approx \n\n\n\nBook un-reg jumping on www.mullingarequestrian.com by 4pm Friday also.
URL:https://mullingarequestrian.com/events/sji-summer-horse-pony-league/2025-07-12/
ATTACH;FMTTYPE=image/png:https://mullingarequestrian.com/wp-content/uploads/2024/12/SJI-Summer-League-2.png
END:VEVENT
END:VCALENDAR